BEGIN:VCALENDAR
PRODID:-//AT Content Types//AT Event//EN
VERSION:2.0
METHOD:PUBLISH
BEGIN:VEVENT
DTSTAMP:20260423T030526Z
CREATED:20091114T154350Z
UID:ATEvent-f785325b02d49a85f9a70acb40017056
LAST-MODIFIED:20091114T154350Z
SUMMARY:Distri unu la alian
DTSTART:20091116T183000Z
DTEND:20091116T210000Z
LOCATION:Tomsgårdsvej 35\, Kph NV
CATEGORIES:KEK arangxo.
CLASS:PUBLIC
END:VEVENT
END:VCALENDAR
