BEGIN:VCALENDAR
PRODID:-//AT Content Types//AT Event//EN
VERSION:2.0
METHOD:PUBLISH
BEGIN:VEVENT
DTSTAMP:20260423T013152Z
CREATED:20091003T204857Z
UID:ATEvent-1d41b8fee7c8e93371a3e53de717d7d4
LAST-MODIFIED:20091003T204857Z
SUMMARY:Darwin\: Egon Starup-Jensen prelegos
DTSTART:20091005T193000Z
DTEND:20091005T210000Z
LOCATION:Tomsgårdsvej 35\, Kph NV
CATEGORIES:KEK arangxo.
CLASS:PUBLIC
END:VEVENT
END:VCALENDAR
