BEGIN:VCALENDAR
PRODID:-//AT Content Types//AT Event//EN
VERSION:2.0
METHOD:PUBLISH
BEGIN:VEVENT
DTSTAMP:20260423T062240Z
CREATED:20080525T170345Z
UID:ATEvent-284c6fcf5060f6532e6d35a3b743c7ae
LAST-MODIFIED:20080525T170609Z
SUMMARY:Cykelgruppen informerar
DTSTART:20080830T100000Z
DTEND:20080830T140000Z
DESCRIPTION:Malmö Esperantoförenings cykelgrupp informerar i Malmö 
 genom att sätta upp affischer på anslagstavlor. Vill du vara med? Ko
 ntakta Sten! stenxagado.net. (Ersätt x med @).
LOCATION:Malmö
CONTACT:Sten Svenonius
CLASS:PUBLIC
END:VEVENT
END:VCALENDAR
