BEGIN:VCALENDAR
PRODID:-//AT Content Types//AT Event//EN
VERSION:2.0
METHOD:PUBLISH
BEGIN:VEVENT
DTSTAMP:20260423T013621Z
CREATED:20071229T140030Z
UID:ATEvent-bdc822e1fcf56bc93a171532a188b2a5
LAST-MODIFIED:20080106T084313Z
SUMMARY:Festeto kun Mikaelo Bronstein en Malmö!
DTSTART:20080115T183000Z
DTEND:20080115T210000Z
DESCRIPTION:Post duonjaro ni denove povos ekuzi nian klubejon. \nOkaze
  de tio ni invitas la SEA-anojn al inaugura festeto en nia "nova" klub
 ejo.\nSpecialaj gastoj\:\nMikaelo Bronstein\, Sankt Peterburgo kaj\nPe
 ter Weide\, Kopenhago
LOCATION:Kronetorpsgatan 94\, Malmö
CONTACT:Sten / Per-Olov
CLASS:PUBLIC
END:VEVENT
END:VCALENDAR
