BEGIN:VCALENDAR
PRODID:-//AT Content Types//AT Event//EN
VERSION:2.0
METHOD:PUBLISH
BEGIN:VEVENT
DTSTAMP:20260423T025925Z
CREATED:20091231T095228Z
UID:ATEvent-9c64c25daa7ea3eb43f0191634548540
LAST-MODIFIED:20100101T094802Z
SUMMARY:Bonan Novjaron
DTSTART:20100104T193000Z
DTEND:20100104T210000Z
DESCRIPTION:Ni distras unu la alian
LOCATION:Tomsgårdsvej 35\, 2400 Kph NV
CATEGORIES:KEK arangxo.
CLASS:PUBLIC
END:VEVENT
END:VCALENDAR
