BEGIN:VCALENDAR
PRODID:-//AT Content Types//AT Event//EN
VERSION:1.0
BEGIN:VEVENT
DTSTART:20091130T193000Z
DTEND:20091130T210000Z
DCREATED:20091128T152330Z
UID:ATEvent-ed0a496eed13f7a09fe0518ad967a6ce
SEQUENCE:0
LAST-MODIFIED:20091128T152330Z
SUMMARY:Birthe Lapenna prelegos pri Ivo
LOCATION:Tomsgårdsvej 35\, Kph NV
PRIORITY:3
TRANSP:0
END:VEVENT
END:VCALENDAR
