BEGIN:VCALENDAR
PRODID:-//AT Content Types//AT Event//EN
VERSION:2.0
METHOD:PUBLISH
BEGIN:VEVENT
DTSTAMP:20260423T055727Z
CREATED:20090122T141401Z
UID:ATEvent-4a02ae9b68c5fca49a527fe4f452199c
LAST-MODIFIED:20090122T141401Z
SUMMARY:Årsmöte i Helsingborgs Esperantoförening 21/2
DTSTART:20090221T133000Z
DTEND:20090221T160000Z
DESCRIPTION:Jarkunsido de Klubo Esperantista de Helsingborgo kun vizit
 o al Folkrörelsearkivet
LOCATION:Folkrörelsearkivet\, Övre Långvinkelsgatan 95\, Helsingborg
CONTACT:Ann-Louise\, 042-29 12 62\, 073-617 01 23\, al_akerlund@yahoo.se
CLASS:PUBLIC
END:VEVENT
END:VCALENDAR
