BEGIN:VCALENDAR
PRODID:-//AT Content Types//AT Event//EN
VERSION:2.0
METHOD:PUBLISH
BEGIN:VEVENT
DTSTAMP:20260423T013021Z
CREATED:20071229T211039Z
UID:ATEvent-59151cbcfcec4eef4bc2c96bb3a6e7c1
LAST-MODIFIED:20080205T082743Z
SUMMARY:Vojag'o en Malto
DTSTART:20080213T183000Z
DTEND:20080213T203000Z
DESCRIPTION:Gertrud kaj Agneta Lund rakontos pri sia vojag'o al Malto.
 
LOCATION:Kronetorpsgatan 94\, Malmö
CLASS:PUBLIC
END:VEVENT
END:VCALENDAR
