BEGIN:VCALENDAR
PRODID:-//AT Content Types//AT Event//EN
VERSION:1.0
BEGIN:VEVENT
DTSTART:20071215T190000Z
DTEND:20071215T222500Z
DCREATED:20071028T182726Z
UID:ATEvent-56e61d1590aec5a70d28eaae8a11288f
SEQUENCE:0
LAST-MODIFIED:20071107T221504Z
SUMMARY:Zamenhoffest-vespero 15.12 - 19.00 Danasvej 30B  Frb.
DESCRIPTION:Invitation til fælles Zamenhoffest-aften 15.12 kl. 19.00 
  Danasvej 30 B\, Frb.  af  Esperanto-Kulturgruppen EKG og DEFA/KEK.\nP
 ris pr. person 60 kr.\nSidste tilmeldingsFRIST\: 07.12 til Torben Sven
 dsen
LOCATION:Danasvej 30B - v. Forum Metro - København
PRIORITY:3
TRANSP:0
END:VEVENT
END:VCALENDAR
