BEGIN:VCALENDAR
PRODID:-//AT Content Types//AT Event//EN
VERSION:2.0
METHOD:PUBLISH
BEGIN:VEVENT
DTSTAMP:20260423T012506Z
CREATED:20101014T063318Z
UID:ATEvent-f7d9870a45017f3f2bdeaef514f2c8ee
LAST-MODIFIED:20101014T063445Z
SUMMARY:Diveno-konkurenco
DTSTART:20101018T190000Z
DTEND:20101018T210000Z
DESCRIPTION:Ni plibonigu la lingvon divene.
LOCATION:Tomgårdsvej 35\, 2400 Kopenhago NV
CATEGORIES:KEK arangxo.
CONTACT:Betty Chatterjee\, +45 38891013\, chatterjeebetty@hotmail.com
URL:www.esperanto.dk
CLASS:PUBLIC
END:VEVENT
END:VCALENDAR
