BEGIN:VCALENDAR
PRODID:-//AT Content Types//AT Event//EN
VERSION:2.0
METHOD:PUBLISH
BEGIN:VEVENT
DTSTAMP:20260423T054830Z
CREATED:20100421T145724Z
UID:ATEvent-a36003a0cf1fb510cd13e81ac2a89916
LAST-MODIFIED:20100421T145724Z
SUMMARY:Diskutrundo pri la tezo ke 'Akvo iĝas mirakla'.
DTSTART:20100426T193000Z
DTEND:20100426T210000Z
DESCRIPTION:Laŭ la tezo de Jonas Dainauskas\, litva doktoro de teknik
 a scienco kaj membro de Litova parapsikologa societo akvo mirakliĝas 
 ĉijare la 19-a de januaro dum kelkaj horoj.
LOCATION:Tomsgårdsvej 35\, 2400 København.NV
CONTACT:Betty Chatterjee\, +45 38 89 10 13\, chatterjeebetty@hotmail.com
CLASS:PUBLIC
END:VEVENT
END:VCALENDAR
