BEGIN:VCALENDAR
PRODID:-//AT Content Types//AT Event//EN
VERSION:1.0
BEGIN:VEVENT
DTSTART:20100920T190000Z
DTEND:20100920T210000Z
DCREATED:20100914T090829Z
UID:ATEvent-ecee0b6cdc195e6a9c03104267842af1
SEQUENCE:0
LAST-MODIFIED:20100914T090829Z
SUMMARY:Debato
DESCRIPTION:La 21-an de septembro estas la U.N-a Tago de paco.
LOCATION:Tomgårdsvej 35\, 2400 Kopenhago NV
PRIORITY:3
TRANSP:0
END:VEVENT
END:VCALENDAR
