BEGIN:VCALENDAR
PRODID:-//AT Content Types//AT Event//EN
VERSION:2.0
METHOD:PUBLISH
BEGIN:VEVENT
DTSTAMP:20260423T060611Z
CREATED:20080916T045745Z
UID:ATEvent-2057174bf9bdbbbcd14e0f73b9b7110e
LAST-MODIFIED:20080916T045745Z
SUMMARY:Budo dum la ESF en Malmö
DTSTART:20080917T130000Z
DTEND:20080921T120000Z
DESCRIPTION:Ekde merkredon la 17/9\, 13-a horo\, ni havos budon en Fol
 kets Park en Malmö. C'iuj kiuj pretas kunlabori c'e la tablo kaj disd
 onado de varbiloj bonvolu kontakti Per-Olov Johansson\, tel 040-263194
 .
LOCATION:Folkets Park\, Malmö
CONTACT:Per-Olov Johansson\, 0730307970
CLASS:PUBLIC
END:VEVENT
END:VCALENDAR
