BEGIN:VCALENDAR
PRODID:-//AT Content Types//AT Event//EN
VERSION:2.0
METHOD:PUBLISH
BEGIN:VEVENT
DTSTAMP:20260422T221618Z
CREATED:20100206T160932Z
UID:ATEvent-2f8974454677f158a7c9082bea60c49c
LAST-MODIFIED:20100206T160932Z
SUMMARY:Begynderkursus
DTSTART:20100301T160000Z
DTEND:20100301T171500Z
DESCRIPTION:Begynderkursus i Esperanto nøglen til spændende internat
 ionale oplevelser. 1 gang om ugen (mandag)
LOCATION:Tomsgårdsvej 35\, 2400 København.NV
CATEGORIES:Kurso
CONTACT:Betty Chatterjee\, +45 38 89 10 13\, chatterjeebetty@hotmail.com
CLASS:PUBLIC
END:VEVENT
END:VCALENDAR
