BEGIN:VCALENDAR
PRODID:-//AT Content Types//AT Event//EN
VERSION:2.0
METHOD:PUBLISH
BEGIN:VEVENT
DTSTAMP:20260423T055116Z
CREATED:20081010T062236Z
UID:ATEvent-6956f3658df7af8a862f33176c5f5b10
LAST-MODIFIED:20081010T062236Z
SUMMARY:Autuna festo en Malmö
DTSTART:20081018T160000Z
DTEND:20081018T200000Z
DESCRIPTION:Vizito al egipta familio en Kairo kaj dezertoj kaj oazoj e
 n Saharo.\nAgneta Lund rakontas kaj montras bildojn
LOCATION:Klubo Esperantista de Malmö\, Kronetorpsgatan 94\, Malmö
CONTACT:Per-Olov Johansson
CLASS:PUBLIC
END:VEVENT
END:VCALENDAR
