BEGIN:VCALENDAR
PRODID:-//AT Content Types//AT Event//EN
VERSION:1.0
BEGIN:VEVENT
DTSTART:20081014T193000Z
DTEND:20081014T204500Z
DCREATED:20081009T195422Z
UID:ATEvent-a1304ebff51a2161d179c067b4750072
SEQUENCE:0
LAST-MODIFIED:20081009T195831Z
SUMMARY:Prelego pri Vladimir Vysotskij
DESCRIPTION:Alexander Kogan prelegos pri la rusa poeto kaj trobaduro V
 ladimir Vysotskij
LOCATION:Medborgerhuset Danasvej 30B\, 2.etage
PRIORITY:3
TRANSP:0
END:VEVENT
END:VCALENDAR
