BEGIN:VCALENDAR
PRODID:-//AT Content Types//AT Event//EN
VERSION:2.0
METHOD:PUBLISH
BEGIN:VEVENT
DTSTAMP:20260423T055339Z
CREATED:20080129T174145Z
UID:ATEvent-26e3828408cdfbe9afbb36efcbd1789c
LAST-MODIFIED:20080219T184925Z
SUMMARY:Claude Piron 1931 – 2008. Jen la programo por la memorvespero.
DTSTART:20080225T193000Z
DTEND:20080225T210000Z
DESCRIPTION:KEK honoros la memoron de Claude Piron per memorvespero.
LOCATION:La kulturdomo\, Dortheasvej 61\, 2400 Kopenhago NV
CONTACT:Betty Chatterjee\, +45 38 89 10 13\, chatterjeebetty@hotmail.com
CLASS:PUBLIC
END:VEVENT
END:VCALENDAR
