BEGIN:VCALENDAR
PRODID:-//AT Content Types//AT Event//EN
VERSION:2.0
METHOD:PUBLISH
BEGIN:VEVENT
DTSTAMP:20260422T235055Z
CREATED:20090104T134026Z
UID:ATEvent-89d5a7080d744b1117c68e6daccbdcfb
LAST-MODIFIED:20090104T134026Z
SUMMARY:Novjara Babilejo
DTSTART:20090105T190000Z
DTEND:20090105T210000Z
DESCRIPTION:Venu viziti la "Novjaran Babilejon" ĉe KEK
LOCATION:Dortheavej 61\, 2.
CATEGORIES:KEK arangxo.
CONTACT:Jytte Sunekær\, 4448 4726\, jytte.sunekaer@mail.tele.dk
CLASS:PUBLIC
END:VEVENT
END:VCALENDAR
