BEGIN:VCALENDAR
PRODID:-//AT Content Types//AT Event//EN
VERSION:2.0
METHOD:PUBLISH
BEGIN:VEVENT
DTSTAMP:20260423T012523Z
CREATED:20100303T200640Z
UID:ATEvent-34959de27ef47333ace2c135cefd77ff
LAST-MODIFIED:20100418T053132Z
SUMMARY:Invitation møde om studiegruppe i Esperanto-Kulturgruppen
DTSTART:20100422T190000Z
DTEND:20100422T213000Z
DESCRIPTION:Invitation - møde om studiegruppe i Esperanto-Kulturgrupp
 en
LOCATION:Medborgerhuset\, Danasvej 30B\, 2. Frederiksberg
CATEGORIES:Esperanto-Kulturgrupo EKG
CONTACT:Torben Svendsen\, +45 3874 9764\, kulturgrupo@webspeed.dk
CLASS:PUBLIC
END:VEVENT
END:VCALENDAR
