BEGIN:VCALENDAR
PRODID:-//AT Content Types//AT Event//EN
VERSION:1.0
BEGIN:VEVENT
DTSTART:20080906T110000Z
DTEND:20080906T160000Z
DCREATED:20080827T165101Z
UID:ATEvent-102f7e08988847cd70d950f0e8811dc0
SEQUENCE:0
LAST-MODIFIED:20080827T165101Z
SUMMARY:La Tago de la Asocioj\, EKG en Solbjerg Plads\, Frederiksberg
DESCRIPTION:Kiel pasintjare la Esperanto-Kulturgrupo EKG partoprenos p
 er inform-stando 06.09\, 11-16 kaj per kanto- kaj muzikprezentado. (je
  Frederiksberg Metroo).\nLigesom forrige år deltager Esperanto-Kultur
 gruppen lør. d. 06.09 kl.11-16 med en informations-stand og med esper
 anto-sang- og musikpræsentation. (Lige ved Frb. Metro).  Torben Svend
 sen
LOCATION:Frederiksberg\, Danio
PRIORITY:3
TRANSP:0
END:VEVENT
END:VCALENDAR
