BEGIN:VCALENDAR
PRODID:-//AT Content Types//AT Event//EN
VERSION:2.0
METHOD:PUBLISH
BEGIN:VEVENT
DTSTAMP:20260422T204748Z
CREATED:20091019T210955Z
UID:ATEvent-b96b9bf3803687f4c776c691e06cf9a4
LAST-MODIFIED:20091026T053042Z
SUMMARY:1-taga kurso
DTSTART:20091108T120000Z
DTEND:20091108T170000Z
DESCRIPTION:Tiun ĉi dimanĉon estas instruado en 2 niveloj.\nUnu por 
 komencantoj kaj unu por tiuj kiuj partoprenis la printempan instruadon
 .\n5-hora instruado.\nPrezo\: 50 sv. kr
LOCATION:Klubo de Malmö
CATEGORIES:Kurso
CONTACT:sten@agado.net
CLASS:PUBLIC
END:VEVENT
END:VCALENDAR
