BEGIN:VCALENDAR
PRODID:-//AT Content Types//AT Event//EN
VERSION:1.0
BEGIN:VEVENT
DTSTART:20091108T120000Z
DTEND:20091108T170000Z
DCREATED:20091019T210955Z
UID:ATEvent-cb346b072ee95da7006d359ee4a8f223
SEQUENCE:0
LAST-MODIFIED:20091026T053042Z
SUMMARY:1 dags kursus
DESCRIPTION:Denne søndag er der undervisning i 2 niveuer. Et for begy
 ndere og et for dem som deltog i forårets undervisning. 5 timers unde
 rvisning Pris\: 50 sv. kr.
LOCATION:Malmø Esperanto Klub
PRIORITY:3
TRANSP:0
END:VEVENT
END:VCALENDAR
